BEGIN:VCALENDAR
VERSION:2.0
PRODID:-//Singapore Productivity Centre (SGPC) - ECPv6.15.20//NONSGML v1.0//EN
CALSCALE:GREGORIAN
METHOD:PUBLISH
X-WR-CALNAME:Singapore Productivity Centre (SGPC)
X-ORIGINAL-URL:https://www.sgpc.sg
X-WR-CALDESC:Events for Singapore Productivity Centre (SGPC)
REFRESH-INTERVAL;VALUE=DURATION:PT1H
X-Robots-Tag:noindex
X-PUBLISHED-TTL:PT1H
BEGIN:VTIMEZONE
TZID:Asia/Shanghai
BEGIN:STANDARD
TZOFFSETFROM:+0800
TZOFFSETTO:+0800
TZNAME:CST
DTSTART:20210101T000000
END:STANDARD
END:VTIMEZONE
BEGIN:VEVENT
DTSTART;TZID=Asia/Shanghai:20220811T090000
DTEND;TZID=Asia/Shanghai:20220811T110000
DTSTAMP:20260422T060333
CREATED:20220805T063200Z
LAST-MODIFIED:20220808T015706Z
UID:8903-1660208400-1660215600@www.sgpc.sg
SUMMARY:Breakfast Networking for Retailers
DESCRIPTION:The Breakfast Talk and Networking event for retailers is part of Singapore Productivity Centre’s ongoing effort to engage retailers and provide learning opportunities. This time\, we have Mr Jayden Ooi of NW Agency to share his insights on how retail websites can help boost sales and business opportunities. It will also be a chance for retailers to network with each other and share best practices.  \n\n\n\nRegister now and we’ll see you at Lifelong Learning Institute on 11 Aug 2022 (Thu) 9am to 11am!
URL:https://www.sgpc.sg/event/breakfast-networking-for-retailers/
CATEGORIES:Event
END:VEVENT
END:VCALENDAR