BEGIN:VCALENDAR
VERSION:2.0
PRODID:-//Singapore Productivity Centre (SGPC) - ECPv6.15.20//NONSGML v1.0//EN
CALSCALE:GREGORIAN
METHOD:PUBLISH
X-ORIGINAL-URL:https://www.sgpc.sg
X-WR-CALDESC:Events for Singapore Productivity Centre (SGPC)
REFRESH-INTERVAL;VALUE=DURATION:PT1H
X-Robots-Tag:noindex
X-PUBLISHED-TTL:PT1H
BEGIN:VTIMEZONE
TZID:Asia/Shanghai
BEGIN:STANDARD
TZOFFSETFROM:+0800
TZOFFSETTO:+0800
TZNAME:CST
DTSTART:20210101T000000
END:STANDARD
END:VTIMEZONE
BEGIN:VEVENT
DTSTART;TZID=Asia/Shanghai:20220930T090000
DTEND;TZID=Asia/Shanghai:20220930T170000
DTSTAMP:20260422T025720
CREATED:20220915T064250Z
LAST-MODIFIED:20220926T075318Z
UID:9119-1664528400-1664557200@www.sgpc.sg
SUMMARY:One-Day Masterclass on Branding for SMEs
DESCRIPTION:Expand your toolbox and deepen your skills to help SMEs in their journey to build brands that last!The world has changed\, therefore companies and brands also need to evolve to ensure that they can stay relevant and ahead of competition. SGPC has partnered Cowan to curate a one-day masterclass for practitioners\, trainers\, consultants and facilitators. Learn from experts from international design agency and network with peers on the latest developments in corporate brand strategy for enterprises! \n\n\n\n \n\n\n\nRegister now and we’ll see you at Lifelong Learning Institute on 30 Sep 2022! \n\n\n\n\n\n\n\n\n\n\n\n\n\n\n\n\n\n\n\n\n\n\n\n\n\n\n\n\n\n\n\n\n\n\n\n\n\n\nSign up now!
URL:https://www.sgpc.sg/event/one-day-masterclass-on-branding-for-smes/
CATEGORIES:Workshop
ATTACH;FMTTYPE=image/jpeg:https://www.sgpc.sg/wp-content/uploads/2022/09/Asset-3-2.jpg
END:VEVENT
END:VCALENDAR