BEGIN:VCALENDAR
VERSION:2.0
PRODID:-//Singapore Productivity Centre (SGPC) - ECPv6.15.20//NONSGML v1.0//EN
CALSCALE:GREGORIAN
METHOD:PUBLISH
X-WR-CALNAME:Singapore Productivity Centre (SGPC)
X-ORIGINAL-URL:https://www.sgpc.sg
X-WR-CALDESC:Events for Singapore Productivity Centre (SGPC)
REFRESH-INTERVAL;VALUE=DURATION:PT1H
X-Robots-Tag:noindex
X-PUBLISHED-TTL:PT1H
BEGIN:VTIMEZONE
TZID:Asia/Shanghai
BEGIN:STANDARD
TZOFFSETFROM:+0800
TZOFFSETTO:+0800
TZNAME:CST
DTSTART:20230101T000000
END:STANDARD
END:VTIMEZONE
BEGIN:VEVENT
DTSTART;TZID=Asia/Shanghai:20240524T090000
DTEND;TZID=Asia/Shanghai:20240524T170000
DTSTAMP:20260425T120304
CREATED:20240530T035251Z
LAST-MODIFIED:20240530T035646Z
UID:9814-1716541200-1716570000@www.sgpc.sg
SUMMARY:Accelerating Retail Sales Growth Workshop
DESCRIPTION:Sign up now!
URL:https://www.sgpc.sg/event/accelerating-retail-sales-growth-workshop/
CATEGORIES:Workshop
ATTACH;FMTTYPE=image/jpeg:https://www.sgpc.sg/wp-content/uploads/2022/11/cta_640x300pixel_221014jpg.jpg
END:VEVENT
END:VCALENDAR