BEGIN:VCALENDAR
VERSION:2.0
PRODID:-//Singapore Productivity Centre (SGPC) - ECPv6.15.20//NONSGML v1.0//EN
CALSCALE:GREGORIAN
METHOD:PUBLISH
X-WR-CALNAME:Singapore Productivity Centre (SGPC)
X-ORIGINAL-URL:https://www.sgpc.sg
X-WR-CALDESC:Events for Singapore Productivity Centre (SGPC)
REFRESH-INTERVAL;VALUE=DURATION:PT1H
X-Robots-Tag:noindex
X-PUBLISHED-TTL:PT1H
BEGIN:VTIMEZONE
TZID:Asia/Shanghai
BEGIN:STANDARD
TZOFFSETFROM:+0800
TZOFFSETTO:+0800
TZNAME:CST
DTSTART:20230101T000000
END:STANDARD
END:VTIMEZONE
BEGIN:VEVENT
DTSTART;TZID=Asia/Shanghai:20240625T090000
DTEND;TZID=Asia/Shanghai:20240628T170000
DTSTAMP:20260422T045303
CREATED:20240625T072809Z
LAST-MODIFIED:20240625T072810Z
UID:9960-1719306000-1719594000@www.sgpc.sg
SUMMARY:Workshop on the Business Model Canvas for Startups and Entrepreneurs
DESCRIPTION:The Workshop on the Business Model Canvas for Startups and Entrepreneurs\, scheduled from June 25 to 28\, 2024\, is a meticulously designed program aimed at fostering entrepreneurial skills and strategic business planning among emerging startups. Organized by the Singapore Productivity Centre (SGPC) in collaboration with the APO Secretariat\, this workshop will be held at the Aqueen Hotel Paya Lebar in Singapore. The four-day event will feature a series of sessions led by industry experts\, including comprehensive discussions on fostering entrepreneurship\, opportunities and challenges in the digital economy\, and detailed explorations of the Business Model Canvas. Participants will engage in hands-on exercises\, group work\, and site visits to prominent entrepreneurial hubs such as Temasek LaunchPad and ACE.SG\, providing them with practical insights and real-world applications of the concepts discussed.
URL:https://www.sgpc.sg/event/workshop-on-the-business-model-canvas-for-startups-and-entrepreneurs/
CATEGORIES:Workshop
END:VEVENT
BEGIN:VEVENT
DTSTART;TZID=Asia/Shanghai:20240912T000000
DTEND;TZID=Asia/Shanghai:20240914T235959
DTSTAMP:20260422T045303
CREATED:20240618T053422Z
LAST-MODIFIED:20240618T053814Z
UID:9932-1726099200-1726358399@www.sgpc.sg
SUMMARY:Franchising & Licensing Asia 2024
DESCRIPTION:The Singapore Productivity Centre is proud to partner with Franchising & Licensing Asia (FLAsia) 2024\, Asia’s leading event for franchise and licensing opportunities. Taking place September 12th-14th at Marina Bay Sands\, FLAsia connects franchisors\, potential franchisees\, licensors\, licensees\, and industry leaders. Attendees can network with key decision-makers\, gain valuable insights from industry experts\, and explore a wide range of franchise and licensing opportunities. Don’t miss this chance to be part of Asia’s premier franchising and licensing event!
URL:https://www.sgpc.sg/event/franchising-licensing-asia-2024/
END:VEVENT
END:VCALENDAR