BEGIN:VCALENDAR
VERSION:2.0
PRODID:-//Singapore Productivity Centre (SGPC) - ECPv6.15.20//NONSGML v1.0//EN
CALSCALE:GREGORIAN
METHOD:PUBLISH
X-WR-CALNAME:Singapore Productivity Centre (SGPC)
X-ORIGINAL-URL:https://www.sgpc.sg
X-WR-CALDESC:Events for Singapore Productivity Centre (SGPC)
REFRESH-INTERVAL;VALUE=DURATION:PT1H
X-Robots-Tag:noindex
X-PUBLISHED-TTL:PT1H
BEGIN:VTIMEZONE
TZID:Asia/Shanghai
BEGIN:STANDARD
TZOFFSETFROM:+0800
TZOFFSETTO:+0800
TZNAME:CST
DTSTART:20210101T000000
END:STANDARD
END:VTIMEZONE
BEGIN:VEVENT
DTSTART;TZID=Asia/Shanghai:20221025T150000
DTEND;TZID=Asia/Shanghai:20221025T160000
DTSTAMP:20260422T012824
CREATED:20221012T063033Z
LAST-MODIFIED:20221012T105136Z
UID:9239-1666710000-1666713600@www.sgpc.sg
SUMMARY:Webinar: Understanding the Code of Conduct for Leasing of Retail Premises
DESCRIPTION:Due to Singapore’s high density of retail shops\, business owners face fierce competition. To maintain a fair business environment\, the Code of Conduct (CoC) for Leasing of Retail Premises was introduced to balance the bargaining power between landlords and tenants. In order to gain a better understanding of their rights and responsibilities under the CoC\, it is important for tenants and landlords alike to become familiar with the CoC. \n\n\n\n \n\n\n\nWe will be hosting a complimentary webinar delivered by Mr Nicholas Cheong\, a lawyer who will provide an overview of the Code of Conduct\, what it covers\, when it is applicable\, how it aids dispute resolution\, and more. Sign up to gain the knowledge you need if you are in the business of leasing retail space\, currently renting a storefront or contemplating expanding your business’s physical presence. \n\n\n\n \n\n\n\nRegister now and we’ll see you online on 25 October 2022! \n\n\n\n\n\n\n\n\n\n\n\n\nSign up now!
URL:https://www.sgpc.sg/event/webinar-ftic/
CATEGORIES:Event
ATTACH;FMTTYPE=image/jpeg:https://www.sgpc.sg/wp-content/uploads/2022/10/FTIC_Preview-session_banner.jpg
END:VEVENT
BEGIN:VEVENT
DTSTART;TZID=Asia/Shanghai:20221026T090000
DTEND;TZID=Asia/Shanghai:20221026T170000
DTSTAMP:20260422T012824
CREATED:20221010T075902Z
LAST-MODIFIED:20221019T055634Z
UID:9218-1666774800-1666803600@www.sgpc.sg
SUMMARY:SGPC x Cowan: Branding Workshop for F&B - Day 1
DESCRIPTION:The world has changed. Building a standout brand is more important now more than any other time so as to stay relevant and stay ahead of competition.  \n\n\n\n \n\n\n\nLearn how to identify the opportunities that will help set your brand apart. The two-day interactive workshop let by international brand design agency\, Cowan\, will teach you the foundation to build a solid brand and beyond. \n\n\n\n \n\n\n\nRegister now and we’ll see you at Lifelong Learning Institute on 26 & 27 Oct 2022! \n\n\n\n\n\n\n\n\n\n\n\n\n\n\n\n\n\n\n\n\n\n\n\n\n\n\n\n\n\n\n\n\n\n\n\n\n\n\nSign up now!
URL:https://www.sgpc.sg/event/sgpc-x-cowan-branding-workshop-for-fb-day-1/
CATEGORIES:Workshop
ATTACH;FMTTYPE=image/png:https://www.sgpc.sg/wp-content/uploads/2022/10/CTA_640x300pixel_221007_CT.png
END:VEVENT
BEGIN:VEVENT
DTSTART;TZID=Asia/Shanghai:20221027T090000
DTEND;TZID=Asia/Shanghai:20221027T170000
DTSTAMP:20260422T012824
CREATED:20221010T075916Z
LAST-MODIFIED:20221019T055733Z
UID:9227-1666861200-1666890000@www.sgpc.sg
SUMMARY:SGPC x Cowan: Branding Workshop for F&B - Day 2
DESCRIPTION:The world has changed. Building a standout brand is more important now more than any other time so as to stay relevant and stay ahead of competition.  \n\n\n\n \n\n\n\nLearn how to identify the opportunities that will help set your brand apart. The two-day interactive workshop let by international brand design agency\, Cowan\, will teach you the foundation to build a solid brand and beyond. \n\n\n\n \n\n\n\nRegister now and we’ll see you at Lifelong Learning Institute on 26 & 27 Oct 2022! \n\n\n\n\n\n\n\n\n\n\n\n\n\n\n\n\n\n\n\n\n\n\n\n\n\n\n\n\n\n\n\n\n\n\n\n\n\n\n\n\n\n\n\n\n\n\n\n\n\n\n\n\n\n\nSign up now!
URL:https://www.sgpc.sg/event/sgpc-x-cowan-branding-workshop-for-fb-day-2/
CATEGORIES:Workshop
ATTACH;FMTTYPE=image/png:https://www.sgpc.sg/wp-content/uploads/2022/10/CTA_640x300pixel_221007_CT-1.png
END:VEVENT
END:VCALENDAR