BEGIN:VCALENDAR
VERSION:2.0
PRODID:-//Singapore Productivity Centre (SGPC) - ECPv6.15.20//NONSGML v1.0//EN
CALSCALE:GREGORIAN
METHOD:PUBLISH
X-WR-CALNAME:Singapore Productivity Centre (SGPC)
X-ORIGINAL-URL:https://www.sgpc.sg
X-WR-CALDESC:Events for Singapore Productivity Centre (SGPC)
REFRESH-INTERVAL;VALUE=DURATION:PT1H
X-Robots-Tag:noindex
X-PUBLISHED-TTL:PT1H
BEGIN:VTIMEZONE
TZID:Asia/Shanghai
BEGIN:STANDARD
TZOFFSETFROM:+0800
TZOFFSETTO:+0800
TZNAME:CST
DTSTART:20210101T000000
END:STANDARD
END:VTIMEZONE
BEGIN:VEVENT
DTSTART;TZID=Asia/Shanghai:20221111T090000
DTEND;TZID=Asia/Shanghai:20221111T180000
DTSTAMP:20260421T235247
CREATED:20221012T082622Z
LAST-MODIFIED:20221012T082642Z
UID:9275-1668157200-1668189600@www.sgpc.sg
SUMMARY:Mastering Ready-To-Eat and Ready-To-Cook Food Workshop - Day 1
DESCRIPTION:Format: In-person workshop \n\n\n\n \n\n\n\n\n\n\n\n\n\nIn recent years\, there has been a shift in the way that many people approach food. With busier lifestyles and less time for cooking\, more and more people are turning to ready-to-eat (RTE) and ready-to-cook (RTC) meals as a way to save time and simplify their lives. As a result\, the demand for RTE and RTC meals has increased tremendously and has grown into one of the most varied segments of the food manufacturing industry. \n\n\n\n \n\n\n\nThe upcoming 2.5 days workshop will provide attendees with a comprehensive overview of the RTE and RTC food market\, as well as the latest technologies and trends in this rapidly growing segment of the food industry. The expert trainer\, Chef Willment Leong\, will cover a wide range of topics\, including market analysis\, kitchen equipment\, kitchen workflows\, raw ingredients management\, packaging types and latest products from Thailand. Attendees will also get to experience hands-on batch cooking techniques and cooking demo with food tasting.  \n\n\n\n \n\n\n\nThis workshop is an invaluable opportunity for anyone involved in the RTE or RTC food industry\, or anyone looking to enter this rapidly growing market.  \n\n\n\n \n\n\n\nWorkshop Dates\n\n\n\n11 November 2022 (Friday) – 8 hr \n\n\n\n12 November 2022 (Saturday) – 8 hr \n\n\n\n14 November 2022 (Monday) – 4 hr
URL:https://www.sgpc.sg/event/mastering-ready-to-eat-and-ready-to-cook-food-workshop-day-1/
LOCATION:Lifelong Learning Institute\, 11 Eunos Rd 8\, Lifelong Learning Institute\, 408601
CATEGORIES:Workshop
ATTACH;FMTTYPE=image/jpeg:https://www.sgpc.sg/wp-content/uploads/2022/10/RTERTC_WA_20221003-1.jpg
END:VEVENT
BEGIN:VEVENT
DTSTART;TZID=Asia/Shanghai:20221112T090000
DTEND;TZID=Asia/Shanghai:20221112T180000
DTSTAMP:20260421T235247
CREATED:20221012T082745Z
LAST-MODIFIED:20221012T082747Z
UID:9279-1668243600-1668276000@www.sgpc.sg
SUMMARY:Mastering Ready-To-Eat and Ready-To-Cook Food Workshop - Day 2
DESCRIPTION:Format: In-person workshop \n\n\n\n \n\n\n\n\n\n\n\n\n\nIn recent years\, there has been a shift in the way that many people approach food. With busier lifestyles and less time for cooking\, more and more people are turning to ready-to-eat (RTE) and ready-to-cook (RTC) meals as a way to save time and simplify their lives. As a result\, the demand for RTE and RTC meals has increased tremendously and has grown into one of the most varied segments of the food manufacturing industry. \n\n\n\n \n\n\n\nThe upcoming 2.5 days workshop will provide attendees with a comprehensive overview of the RTE and RTC food market\, as well as the latest technologies and trends in this rapidly growing segment of the food industry. The expert trainer\, Chef Willment Leong\, will cover a wide range of topics\, including market analysis\, kitchen equipment\, kitchen workflows\, raw ingredients management\, packaging types and latest products from Thailand. Attendees will also get to experience hands-on batch cooking techniques and cooking demo with food tasting.  \n\n\n\n \n\n\n\nThis workshop is an invaluable opportunity for anyone involved in the RTE or RTC food industry\, or anyone looking to enter this rapidly growing market.  \n\n\n\n \n\n\n\nWorkshop Dates\n\n\n\n11 November 2022 (Friday) – 8 hr \n\n\n\n12 November 2022 (Saturday) – 8 hr \n\n\n\n14 November 2022 (Monday) – 4 hr
URL:https://www.sgpc.sg/event/mastering-ready-to-eat-and-ready-to-cook-food-workshop-day-2/
LOCATION:Lifelong Learning Institute\, 11 Eunos Rd 8\, Lifelong Learning Institute\, 408601
CATEGORIES:Workshop
ATTACH;FMTTYPE=image/jpeg:https://www.sgpc.sg/wp-content/uploads/2022/10/RTERTC_WA_20221003-1.jpg
END:VEVENT
BEGIN:VEVENT
DTSTART;TZID=Asia/Shanghai:20221122T090000
DTEND;TZID=Asia/Shanghai:20221122T170000
DTSTAMP:20260421T235247
CREATED:20221107T071807Z
LAST-MODIFIED:20221107T072335Z
UID:9311-1669107600-1669136400@www.sgpc.sg
SUMMARY:SGPC x Cowan: Branding Workshop for F&B - Day 1
DESCRIPTION:The world has changed. Building a standout brand is more important now more than any other time so as to stay relevant and stay ahead of competition.  \n\n\n\n \n\n\n\nLearn how to identify the opportunities that will help set your brand apart. The two-day interactive workshop let by international brand design agency\, Cowan\, will teach you the foundation to build a solid brand and beyond. \n\n\n\n \n\n\n\nRegister now and we’ll see you at Lifelong Learning Institute on 22 & 23 Nov 2022! \n\n\n\n\n\n\n\n\n\n\n\n\n\n\n\n\n\n\n\n\n\n\n\n\n\n\n\n\n\n\n\n\n\n\n\n\n\n\nSign up now!
URL:https://www.sgpc.sg/event/sgpc-x-cowan-branding-workshop-for-fb-day-1-2/
CATEGORIES:Workshop
ATTACH;FMTTYPE=image/jpeg:https://www.sgpc.sg/wp-content/uploads/2022/11/cta_640x300pixel_221014jpg.jpg
END:VEVENT
BEGIN:VEVENT
DTSTART;TZID=Asia/Shanghai:20221123T090000
DTEND;TZID=Asia/Shanghai:20221123T170000
DTSTAMP:20260421T235247
CREATED:20221107T072039Z
LAST-MODIFIED:20221107T072127Z
UID:9316-1669194000-1669222800@www.sgpc.sg
SUMMARY:SGPC x Cowan: Branding Workshop for F&B - Day 2
DESCRIPTION:The world has changed. Building a standout brand is more important now more than any other time so as to stay relevant and stay ahead of competition.  \n\n\n\n \n\n\n\nLearn how to identify the opportunities that will help set your brand apart. The two-day interactive workshop let by international brand design agency\, Cowan\, will teach you the foundation to build a solid brand and beyond. \n\n\n\n \n\n\n\nRegister now and we’ll see you at Lifelong Learning Institute on 22 & 23 Nov 2022! \n\n\n\n\n\n\n\n\n\n\n\n\n\n\n\n\n\n\n\n\n\n\n\n\n\n\n\n\n\n\n\n\n\n\n\n\n\n\nSign up now!
URL:https://www.sgpc.sg/event/sgpc-x-cowan-branding-workshop-for-fb-day-2-2/
CATEGORIES:Workshop
ATTACH;FMTTYPE=image/jpeg:https://www.sgpc.sg/wp-content/uploads/2022/11/cta_640x300pixel_221014jpg.jpg
END:VEVENT
END:VCALENDAR